BEGIN:VCALENDAR
VERSION:2.0
PRODID:-//Sabre//Sabre VObject 4.5.8//EN
CALSCALE:GREGORIAN
BEGIN:VEVENT
UID:sabre-vobject-c2651681-92f8-45cb-9e97-a558233a933a
DTSTAMP:20260425T160648Z
SUMMARY:Dankandacht der Erstkommunionkinder
DESCRIPTION:https://www2.bistum-augsburg.de/gottesdienste/dankandacht-der-e
 rstkommunionkinder_id1729699
DTSTART;TZID=Europe/Berlin:20260426T170000
DURATION:PT30M
LOCATION:St. Martin
END:VEVENT
END:VCALENDAR
