BEGIN:VCALENDAR
VERSION:2.0
PRODID:-//Sabre//Sabre VObject 4.5.8//EN
CALSCALE:GREGORIAN
BEGIN:VEVENT
UID:sabre-vobject-72b25864-288e-4835-88fd-eafa89b22712
DTSTAMP:20260424T090559Z
SUMMARY:Beichtgelegenheit in der Kapelle und Rosenkranz in der Kirche
DESCRIPTION:https://www2.bistum-augsburg.de/gottesdienste/beichtgelegenheit
 -in-der-kapelle-und-rosenkranz-in-der-kirche_id1729723
DTSTART;TZID=Europe/Berlin:20260510T083000
DURATION:PT30M
LOCATION:Maria Hilf
END:VEVENT
END:VCALENDAR
