BEGIN:VCALENDAR
VERSION:2.0
PRODID:-//Sabre//Sabre VObject 4.5.8//EN
CALSCALE:GREGORIAN
BEGIN:VEVENT
UID:sabre-vobject-651c12b3-7978-4f4e-8022-472a7b05279f
DTSTAMP:20260424T210650Z
SUMMARY:Bittgang von der Apollonia-Kapelle Schwabstadl
DESCRIPTION:https://www2.bistum-augsburg.de/gottesdienste/bittgang-von-der-
 apollonia-kapelle-schwabstadl_id1729725
DTSTART;TZID=Europe/Berlin:20260511T180000
DURATION:PT30M
LOCATION:Maria Hilf
END:VEVENT
END:VCALENDAR
