BEGIN:VCALENDAR
VERSION:2.0
PRODID:-//Sabre//Sabre VObject 4.5.8//EN
CALSCALE:GREGORIAN
BEGIN:VEVENT
UID:sabre-vobject-293f1961-6e04-4b8d-89db-7b115b117f85
DTSTAMP:20260422T155807Z
SUMMARY:Frühmesse - entfällt
DESCRIPTION:https://www2.bistum-augsburg.de/gottesdienste/fruehmesse-entfae
 llt_id1729765
DTSTART;TZID=Europe/Berlin:20260501T070000
DURATION:PT30M
LOCATION:Mariä Himmelfahrt\, Kirchenweg 6\, 89358 Kammeltal
END:VEVENT
END:VCALENDAR
