BEGIN:VCALENDAR
VERSION:2.0
PRODID:-//Sabre//Sabre VObject 4.5.8//EN
CALSCALE:GREGORIAN
BEGIN:VEVENT
UID:sabre-vobject-88dad4b4-8d4e-40c4-b151-34152ee2a92e
DTSTAMP:20260425T104627Z
SUMMARY:Hl. Messe mit Motorradsegnung\, Freiluftgottesdienst
DESCRIPTION:https://www2.bistum-augsburg.de/gottesdienste/hl-messe-mit-moto
 rradsegnung-freiluftgottesdienst_id1729768
DTSTART;TZID=Europe/Berlin:20260503T093000
DURATION:PT30M
LOCATION:Mariä Himmelfahrt\, Kirchenweg 6\, 89358 Kammeltal
END:VEVENT
END:VCALENDAR
