BEGIN:VCALENDAR
VERSION:2.0
PRODID:-//Sabre//Sabre VObject 4.5.8//EN
CALSCALE:GREGORIAN
BEGIN:VEVENT
UID:sabre-vobject-02257efd-a4c9-4bc4-b1da-74e2164a7ad1
DTSTAMP:20260422T143527Z
SUMMARY:Rosenkranz in der Marienkapelle
DESCRIPTION:https://www2.bistum-augsburg.de/gottesdienste/rosenkranz-in-der
 -marienkapelle_id1729774
DTSTART;TZID=Europe/Berlin:20260502T160000
DURATION:PT30M
LOCATION:St. Margaretha
END:VEVENT
END:VCALENDAR
