BEGIN:VCALENDAR
VERSION:2.0
PRODID:-//Sabre//Sabre VObject 4.5.8//EN
CALSCALE:GREGORIAN
BEGIN:VEVENT
UID:sabre-vobject-a52a3061-e015-4c26-aab5-f75f4c4ffbbf
DTSTAMP:20260425T132550Z
SUMMARY:Hl. Messe nach dem Messbuch von 1962
DESCRIPTION:https://www2.bistum-augsburg.de/gottesdienste/hl-messe-nach-dem
 -messbuch-von-1962_id1729796
DTSTART;TZID=Europe/Berlin:20260517T080000
DURATION:PT30M
LOCATION:Mariä Himmelfahrt
END:VEVENT
END:VCALENDAR
