BEGIN:VCALENDAR
VERSION:2.0
PRODID:-//Sabre//Sabre VObject 4.5.8//EN
CALSCALE:GREGORIAN
BEGIN:VEVENT
UID:sabre-vobject-f6245dc7-bdfb-43f4-b486-943eb84cd8e6
DTSTAMP:20260424T121223Z
SUMMARY:Festmesse mit Firmung mit H. H. Weihbischof Florian Wörner
DESCRIPTION:https://www2.bistum-augsburg.de/gottesdienste/festmesse-mit-fir
 mung-mit-h-h-weihbischof-florian-woerner_id1729797
DTSTART;TZID=Europe/Berlin:20260517T100000
DURATION:PT30M
LOCATION:Mariä Himmelfahrt
END:VEVENT
END:VCALENDAR
