BEGIN:VCALENDAR
VERSION:2.0
PRODID:-//Sabre//Sabre VObject 4.5.8//EN
CALSCALE:GREGORIAN
BEGIN:VEVENT
UID:sabre-vobject-db5287b0-4fcd-4e5f-8317-bdb768fb15ca
DTSTAMP:20260425T143204Z
SUMMARY:Rosenkranz für den Frieden
DESCRIPTION:https://www2.bistum-augsburg.de/gottesdienste/rosenkranz-fuer-d
 en-frieden_id1729804
DTSTART;TZID=Europe/Berlin:20260425T180000
DURATION:PT30M
LOCATION:St. Peter
END:VEVENT
END:VCALENDAR
