BEGIN:VCALENDAR
VERSION:2.0
PRODID:-//Sabre//Sabre VObject 4.5.8//EN
CALSCALE:GREGORIAN
BEGIN:VEVENT
UID:sabre-vobject-d92fb182-28dc-4402-b939-64932b287901
DTSTAMP:20260425T190352Z
SUMMARY:Frühmesse
DESCRIPTION:https://www2.bistum-augsburg.de/gottesdienste/fruehmesse_id1729
 806
DTSTART;TZID=Europe/Berlin:20260427T080000
DURATION:PT30M
LOCATION:St. Peter
END:VEVENT
END:VCALENDAR
