BEGIN:VCALENDAR
VERSION:2.0
PRODID:-//Sabre//Sabre VObject 4.5.8//EN
CALSCALE:GREGORIAN
BEGIN:VEVENT
UID:sabre-vobject-a3d0dafc-ed57-4180-ba6a-bf3672615317
DTSTAMP:20260424T000321Z
SUMMARY:Hl. Messe
DESCRIPTION:https://www2.bistum-augsburg.de/gottesdienste/hl-messe_id172981
 8
DTSTART;TZID=Europe/Berlin:20260515T190000
DURATION:PT30M
LOCATION:Maria Hilf
END:VEVENT
END:VCALENDAR
