BEGIN:VCALENDAR
VERSION:2.0
PRODID:-//Sabre//Sabre VObject 4.5.8//EN
CALSCALE:GREGORIAN
BEGIN:VEVENT
UID:sabre-vobject-c48ceb0a-f4c2-4a1c-9d86-a84539019964
DTSTAMP:20260425T031049Z
SUMMARY:Messe
DESCRIPTION:https://www2.bistum-augsburg.de/gottesdienste/messe_id1729825
DTSTART;TZID=Europe/Berlin:20260503T090000
DURATION:PT30M
LOCATION:St. Stephan
END:VEVENT
END:VCALENDAR
