BEGIN:VCALENDAR
VERSION:2.0
PRODID:-//Sabre//Sabre VObject 4.5.8//EN
CALSCALE:GREGORIAN
BEGIN:VEVENT
UID:sabre-vobject-629ff0d9-d02c-437e-a77a-9cc275340b46
DTSTAMP:20260423T003206Z
SUMMARY:Kirchenputz
DESCRIPTION:https://www2.bistum-augsburg.de/gottesdienste/kirchenputz_id172
 9836
DTSTART;TZID=Europe/Berlin:20260428T080000
DURATION:PT30M
LOCATION:St. Nikolaus
END:VEVENT
END:VCALENDAR
