BEGIN:VCALENDAR
VERSION:2.0
PRODID:-//Sabre//Sabre VObject 4.5.8//EN
CALSCALE:GREGORIAN
BEGIN:VEVENT
UID:sabre-vobject-132fa800-f687-44cf-aece-a32fc8732702
DTSTAMP:20260424T120118Z
SUMMARY:Hl. Vorabendmesse
DESCRIPTION:https://www2.bistum-augsburg.de/gottesdienste/hl-vorabendmesse_
 id1729839
DTSTART;TZID=Europe/Berlin:20260425T191500
DURATION:PT30M
LOCATION:St. Nikolaus
END:VEVENT
END:VCALENDAR
