BEGIN:VCALENDAR
VERSION:2.0
PRODID:-//Sabre//Sabre VObject 4.5.8//EN
CALSCALE:GREGORIAN
BEGIN:VEVENT
UID:sabre-vobject-d63b0cb3-c492-45c1-8696-b3ba3cd3674f
DTSTAMP:20260423T162747Z
SUMMARY:Pilgermesse
DESCRIPTION:https://www2.bistum-augsburg.de/gottesdienste/pilgermesse_id172
 9854
DTSTART;TZID=Europe/Berlin:20260501T110000
DURATION:PT30M
LOCATION:Wallfahrts-Kuratie St. Josef\, Wies 14\, 86989 Wies
END:VEVENT
END:VCALENDAR
