BEGIN:VCALENDAR
VERSION:2.0
PRODID:-//Sabre//Sabre VObject 4.5.8//EN
CALSCALE:GREGORIAN
BEGIN:VEVENT
UID:sabre-vobject-6b3d65de-8b85-4703-9fae-7299c23fa489
DTSTAMP:20260423T162750Z
SUMMARY:Hl. Messe
DESCRIPTION:https://www2.bistum-augsburg.de/gottesdienste/hl-messe_id172985
 8
DTSTART;TZID=Europe/Berlin:20260503T083000
DURATION:PT30M
LOCATION:Wallfahrts-Kuratie St. Josef\, Wies 14\, 86989 Wies
END:VEVENT
END:VCALENDAR
