BEGIN:VCALENDAR
VERSION:2.0
PRODID:-//Sabre//Sabre VObject 4.5.8//EN
CALSCALE:GREGORIAN
BEGIN:VEVENT
UID:sabre-vobject-1d4b4987-baa8-4a47-8db3-6333c2d3a62d
DTSTAMP:20260423T180315Z
SUMMARY:Alpenländische Maiandacht Oberer Lechgau Verband
DESCRIPTION:https://www2.bistum-augsburg.de/gottesdienste/alpenlaendische-m
 aiandacht-oberer-lechgau-verband_id1729861
DTSTART;TZID=Europe/Berlin:20260503T190000
DURATION:PT30M
LOCATION:Wallfahrts-Kuratie St. Josef\, Wies 14\, 86989 Wies
END:VEVENT
END:VCALENDAR
