BEGIN:VCALENDAR
VERSION:2.0
PRODID:-//Sabre//Sabre VObject 4.5.8//EN
CALSCALE:GREGORIAN
BEGIN:VEVENT
UID:sabre-vobject-7f09a6b3-ba5a-4726-87ef-f332b88a5f58
DTSTAMP:20260423T125033Z
SUMMARY:Hl. Messe entfällt\n
DESCRIPTION:https://www2.bistum-augsburg.de/gottesdienste/hl-messe-entfaell
 t_id1729868
DTSTART;TZID=Europe/Berlin:20260430T180000
DURATION:PT30M
LOCATION:Mariä Himmelfahrt\, Kirchenweg 6\, 89358 Kammeltal
END:VEVENT
END:VCALENDAR
