BEGIN:VCALENDAR
VERSION:2.0
PRODID:-//Sabre//Sabre VObject 4.5.8//EN
CALSCALE:GREGORIAN
BEGIN:VEVENT
UID:sabre-vobject-ac8f0972-60b1-4f54-8af7-bfe121ba23d4
DTSTAMP:20260424T194427Z
SUMMARY:Bittmesse in Zaumberg
DESCRIPTION:https://www2.bistum-augsburg.de/gottesdienste/bittmesse-in-zaum
 berg_id1729872
DTSTART;TZID=Europe/Berlin:20260512T191500
DURATION:PT30M
LOCATION:St. Stephan
END:VEVENT
END:VCALENDAR
