BEGIN:VCALENDAR
VERSION:2.0
PRODID:-//Sabre//Sabre VObject 4.5.8//EN
CALSCALE:GREGORIAN
BEGIN:VEVENT
UID:sabre-vobject-5854a987-ddd0-4f91-88cd-c10674a37141
DTSTAMP:20260423T205039Z
SUMMARY:Maiandacht
DESCRIPTION:https://www2.bistum-augsburg.de/gottesdienste/maiandacht_id1729
 873
DTSTART;TZID=Europe/Berlin:20260513T170000
DURATION:PT30M
LOCATION:St. Stephan
END:VEVENT
END:VCALENDAR
