BEGIN:VCALENDAR
VERSION:2.0
PRODID:-//Sabre//Sabre VObject 4.5.8//EN
CALSCALE:GREGORIAN
BEGIN:VEVENT
UID:sabre-vobject-42124d91-a581-43cd-ae10-635395478997
DTSTAMP:20260424T114858Z
SUMMARY:Rosenkranz
DESCRIPTION:https://www2.bistum-augsburg.de/gottesdienste/rosenkranz_id1729
 874
DTSTART;TZID=Europe/Berlin:20260514T082500
DURATION:PT30M
LOCATION:St. Stephan
END:VEVENT
END:VCALENDAR
