BEGIN:VCALENDAR
VERSION:2.0
PRODID:-//Sabre//Sabre VObject 4.5.8//EN
CALSCALE:GREGORIAN
BEGIN:VEVENT
UID:sabre-vobject-08dd5e10-ad53-4b0d-bb81-d5e629b6834a
DTSTAMP:20260426T013152Z
SUMMARY:Rosenkranz\, Gebet um Frieden
DESCRIPTION:https://www2.bistum-augsburg.de/gottesdienste/rosenkranz-gebet-
 um-frieden_id1729875
DTSTART;TZID=Europe/Berlin:20260506T180000
DURATION:PT30M
LOCATION:St. Nikolaus
END:VEVENT
END:VCALENDAR
