BEGIN:VCALENDAR
VERSION:2.0
PRODID:-//Sabre//Sabre VObject 4.5.8//EN
CALSCALE:GREGORIAN
BEGIN:VEVENT
UID:sabre-vobject-15cdd756-a596-43b7-bad9-c7db8de423f6
DTSTAMP:20260423T021508Z
SUMMARY:Dankgottesdienst für die Erstkommunionkinder aus Lengenwang\, Zell
  u. Hopferau mit Segnung der Andachtsgegenstände\, anschl. Ausflug
DESCRIPTION:https://www2.bistum-augsburg.de/gottesdienste/dankgottesdienst-
 fuer-die-erstkommunionkinder-aus-lengenwang-zell-u-hopferau-mit-segnung-de
 r-andachtsgegenstaende-anschl-ausflug_id1729885
DTSTART;TZID=Europe/Berlin:20260428T080000
DURATION:PT30M
LOCATION:St. Wolfgang\, Seeger Str. 1\, 87663 Lengenwang
END:VEVENT
END:VCALENDAR
