BEGIN:VCALENDAR
VERSION:2.0
PRODID:-//Sabre//Sabre VObject 4.5.8//EN
CALSCALE:GREGORIAN
BEGIN:VEVENT
UID:sabre-vobject-ac4cd8f1-2e28-46de-bb6e-4517e53ffa01
DTSTAMP:20260422T225312Z
SUMMARY:Rosenkranz
DESCRIPTION:https://www2.bistum-augsburg.de/gottesdienste/rosenkranz_id1729
 890
DTSTART;TZID=Europe/Berlin:20260503T083000
DURATION:PT30M
LOCATION:St. Wolfgang\, Seeger Str. 1\, 87663 Lengenwang
END:VEVENT
END:VCALENDAR
