BEGIN:VCALENDAR
VERSION:2.0
PRODID:-//Sabre//Sabre VObject 4.5.8//EN
CALSCALE:GREGORIAN
BEGIN:VEVENT
UID:sabre-vobject-4ce3e186-77c5-46f4-a246-8be9f3f54e00
DTSTAMP:20260424T175555Z
SUMMARY:Maiandacht (Musik. Gest.: Andiamo)
DESCRIPTION:https://www2.bistum-augsburg.de/gottesdienste/maiandacht-musik-
 gest-andiamo_id1729893
DTSTART;TZID=Europe/Berlin:20260503T191500
DURATION:PT30M
LOCATION:St. Wolfgang\, Seeger Str. 1\, 87663 Lengenwang
END:VEVENT
END:VCALENDAR
