BEGIN:VCALENDAR
VERSION:2.0
PRODID:-//Sabre//Sabre VObject 4.5.8//EN
CALSCALE:GREGORIAN
BEGIN:VEVENT
UID:sabre-vobject-08eeb5e5-bf10-4679-8016-452ab1188ad3
DTSTAMP:20260425T161059Z
SUMMARY:Rosenkranz für den Frieden in der Welt
DESCRIPTION:https://www2.bistum-augsburg.de/gottesdienste/rosenkranz-fuer-d
 en-frieden-in-der-welt_id1729895
DTSTART;TZID=Europe/Berlin:20260506T180000
DURATION:PT30M
LOCATION:St. Wolfgang\, Seeger Str. 1\, 87663 Lengenwang
END:VEVENT
END:VCALENDAR
