BEGIN:VCALENDAR
VERSION:2.0
PRODID:-//Sabre//Sabre VObject 4.5.8//EN
CALSCALE:GREGORIAN
BEGIN:VEVENT
UID:sabre-vobject-dbc5197f-03af-4a07-88f7-2125f0e4f906
DTSTAMP:20260424T063351Z
SUMMARY:Maiandacht gemein. m. Gläubigen d. Petrusbruderschaft
DESCRIPTION:https://www2.bistum-augsburg.de/gottesdienste/maiandacht-gemein
 -m-glaeubigen-d-petrusbruderschaft_id1729908
DTSTART;TZID=Europe/Berlin:20260522T174500
DURATION:PT30M
LOCATION:Mariä Himmelfahrt
END:VEVENT
END:VCALENDAR
