BEGIN:VCALENDAR
VERSION:2.0
PRODID:-//Sabre//Sabre VObject 4.5.8//EN
CALSCALE:GREGORIAN
BEGIN:VEVENT
UID:sabre-vobject-021d7065-8800-48ba-905d-0f68ecc1364c
DTSTAMP:20260424T193029Z
SUMMARY:Vorabendmesse \nfür die Lebenden und Verstorbenen der Pfarreiengem
 einschaft
DESCRIPTION:https://www2.bistum-augsburg.de/gottesdienste/vorabendmesse-fue
 r-die-lebenden-und-verstorbenen-der-pfarreiengemeinschaft_id1729913
DTSTART;TZID=Europe/Berlin:20260516T180000
DURATION:PT30M
LOCATION:St. Michael\, Augsburger Str.\, 86568 Hollenbach
END:VEVENT
END:VCALENDAR
