BEGIN:VCALENDAR
VERSION:2.0
PRODID:-//Sabre//Sabre VObject 4.5.8//EN
CALSCALE:GREGORIAN
BEGIN:VEVENT
UID:sabre-vobject-420592b2-ffe6-4871-b9ad-ca344de19aef
DTSTAMP:20260426T015526Z
SUMMARY:Festmesse\, musik. gest. v. Kirchenchor m. Kinderkirche i. d. Sakri
 stei
DESCRIPTION:https://www2.bistum-augsburg.de/gottesdienste/festmesse-musik-g
 est-v-kirchenchor-m-kinderkirche-i-d-sakristei_id1729914
DTSTART;TZID=Europe/Berlin:20260524T100000
DURATION:PT30M
LOCATION:Mariä Himmelfahrt
END:VEVENT
END:VCALENDAR
