BEGIN:VCALENDAR
VERSION:2.0
PRODID:-//Sabre//Sabre VObject 4.5.8//EN
CALSCALE:GREGORIAN
BEGIN:VEVENT
UID:sabre-vobject-e39e5562-2331-4920-b73c-ca4e0296582b
DTSTAMP:20260424T134629Z
SUMMARY:Gemeinsame Festmesse f. d. Lebenden und Verstorbenen der Pfarreieng
 emeinschaft
DESCRIPTION:https://www2.bistum-augsburg.de/gottesdienste/gemeinsame-festme
 sse-f-d-lebenden-und-verstorbenen-der-pfarreiengemeinschaft_id1729917
DTSTART;TZID=Europe/Berlin:20260525T100000
DURATION:PT30M
LOCATION:Mariä Himmelfahrt
END:VEVENT
END:VCALENDAR
