BEGIN:VCALENDAR
VERSION:2.0
PRODID:-//Sabre//Sabre VObject 4.5.8//EN
CALSCALE:GREGORIAN
BEGIN:VEVENT
UID:sabre-vobject-89f95e17-e651-465e-99e0-d5ac1e491c6c
DTSTAMP:20260426T001413Z
SUMMARY:Rosenkranz\, Gebet um Frieden
DESCRIPTION:https://www2.bistum-augsburg.de/gottesdienste/rosenkranz-gebet-
 um-frieden_id1729939
DTSTART;TZID=Europe/Berlin:20260429T180000
DURATION:PT30M
LOCATION:St. Nikolaus
END:VEVENT
END:VCALENDAR
