BEGIN:VCALENDAR
VERSION:2.0
PRODID:-//Sabre//Sabre VObject 4.5.8//EN
CALSCALE:GREGORIAN
BEGIN:VEVENT
UID:sabre-vobject-b4c64cf6-a635-4dcd-ad09-646f917d88f8
DTSTAMP:20260425T135222Z
SUMMARY:Maiandacht
DESCRIPTION:https://www2.bistum-augsburg.de/gottesdienste/maiandacht_id1729
 953
DTSTART;TZID=Europe/Berlin:20260503T183000
DURATION:PT30M
LOCATION:Heilig Kreuz
END:VEVENT
END:VCALENDAR
