BEGIN:VCALENDAR
VERSION:2.0
PRODID:-//Sabre//Sabre VObject 4.5.8//EN
CALSCALE:GREGORIAN
BEGIN:VEVENT
UID:sabre-vobject-6083d7f9-ec9c-45a3-a0e5-e1dcddf31264
DTSTAMP:20260425T003502Z
SUMMARY:Hochfestgottesdienst
DESCRIPTION:https://www2.bistum-augsburg.de/gottesdienste/hochfestgottesdie
 nst_id1729956
DTSTART;TZID=Europe/Berlin:20260514T100000
DURATION:PT30M
LOCATION:Heilig Kreuz
END:VEVENT
END:VCALENDAR
