BEGIN:VCALENDAR
VERSION:2.0
PRODID:-//Sabre//Sabre VObject 4.5.8//EN
CALSCALE:GREGORIAN
BEGIN:VEVENT
UID:sabre-vobject-c4938fc2-c25e-46b1-95a6-7bc02df62598
DTSTAMP:20260424T193032Z
SUMMARY:Konzert mit dem Wittelsbacher Land Chor in Inchenhofen
DESCRIPTION:https://www2.bistum-augsburg.de/gottesdienste/konzert-mit-dem-w
 ittelsbacher-land-chor-in-inchenhofen_id1729958
DTSTART;TZID=Europe/Berlin:20260516T193000
DURATION:PT30M
LOCATION:St. Michael\, Augsburger Str.\, 86568 Hollenbach
END:VEVENT
END:VCALENDAR
