BEGIN:VCALENDAR
VERSION:2.0
PRODID:-//Sabre//Sabre VObject 4.5.8//EN
CALSCALE:GREGORIAN
BEGIN:VEVENT
UID:sabre-vobject-beb8fb34-af09-4fc9-9a01-367fd65f9133
DTSTAMP:20260424T192153Z
SUMMARY:Fusswallfahrt nach Inchenhofen
DESCRIPTION:https://www2.bistum-augsburg.de/gottesdienste/fusswallfahrt-nac
 h-inchenhofen_id1729959
DTSTART;TZID=Europe/Berlin:20260517T053000
DURATION:PT30M
LOCATION:St. Michael\, Augsburger Str.\, 86568 Hollenbach
END:VEVENT
END:VCALENDAR
