BEGIN:VCALENDAR
VERSION:2.0
PRODID:-//Sabre//Sabre VObject 4.5.8//EN
CALSCALE:GREGORIAN
BEGIN:VEVENT
UID:sabre-vobject-c65b2c63-e34e-4e20-adfa-c86ed3f29744
DTSTAMP:20260424T131020Z
SUMMARY:Bittgang nach St. Jodok\, dort Bittmesse\n
DESCRIPTION:https://www2.bistum-augsburg.de/gottesdienste/bittgang-nach-st-
 jodok-dort-bittmesse_id1729962
DTSTART;TZID=Europe/Berlin:20260519T183000
DURATION:PT30M
LOCATION:St. Michael\, Augsburger Str.\, 86568 Hollenbach
END:VEVENT
END:VCALENDAR
