BEGIN:VCALENDAR
VERSION:2.0
PRODID:-//Sabre//Sabre VObject 4.5.8//EN
CALSCALE:GREGORIAN
BEGIN:VEVENT
UID:sabre-vobject-c814b3ee-cd8f-42a2-afac-ae916ec67ee4
DTSTAMP:20260424T093906Z
SUMMARY:Bibelkreis im Pfarrzentrum in Hollenbach
DESCRIPTION:https://www2.bistum-augsburg.de/gottesdienste/bibelkreis-im-pfa
 rrzentrum-in-hollenbach_id1729963
DTSTART;TZID=Europe/Berlin:20260519T200000
DURATION:PT30M
LOCATION:St. Michael\, Augsburger Str.\, 86568 Hollenbach
END:VEVENT
END:VCALENDAR
