BEGIN:VCALENDAR
VERSION:2.0
PRODID:-//Sabre//Sabre VObject 4.5.8//EN
CALSCALE:GREGORIAN
BEGIN:VEVENT
UID:sabre-vobject-cf0e5604-d908-47a1-8188-917667c2f7a5
DTSTAMP:20260424T111438Z
SUMMARY:Pfarrgottesdienst \nFür die Lebenden und Verstorbenen der Pfarrei
DESCRIPTION:https://www2.bistum-augsburg.de/gottesdienste/pfarrgottesdienst
 -fuer-die-lebenden-und-verstorbenen-der-pfarrei_id1729973
DTSTART;TZID=Europe/Berlin:20260503T093000
DURATION:PT30M
LOCATION:St. Blasius
END:VEVENT
END:VCALENDAR
