BEGIN:VCALENDAR
VERSION:2.0
PRODID:-//Sabre//Sabre VObject 4.5.8//EN
CALSCALE:GREGORIAN
BEGIN:VEVENT
UID:sabre-vobject-fb648de3-9046-4238-807c-f961286aa5e0
DTSTAMP:20260425T012112Z
SUMMARY:Bittgang nach Winden
DESCRIPTION:https://www2.bistum-augsburg.de/gottesdienste/bittgang-nach-win
 den_id1729976
DTSTART;TZID=Europe/Berlin:20260505T183000
DURATION:PT30M
LOCATION:St. Blasius
END:VEVENT
END:VCALENDAR
