BEGIN:VCALENDAR
VERSION:2.0
PRODID:-//Sabre//Sabre VObject 4.5.8//EN
CALSCALE:GREGORIAN
BEGIN:VEVENT
UID:sabre-vobject-814078db-539e-48ce-a3eb-10320ed389ab
DTSTAMP:20260423T124122Z
SUMMARY:Hl. Messe mit Übergabe der Gebetsanliegen am Gnadenaltar an den He
 iland
DESCRIPTION:https://www2.bistum-augsburg.de/gottesdienste/hl-messe-mit-uebe
 rgabe-der-gebetsanliegen-am-gnadenaltar-an-den-heiland_id1729983
DTSTART;TZID=Europe/Berlin:20260429T100000
DURATION:PT30M
LOCATION:Wallfahrts-Kuratie St. Josef\, Wies 14\, 86989 Wies
END:VEVENT
END:VCALENDAR
