BEGIN:VCALENDAR
VERSION:2.0
PRODID:-//Sabre//Sabre VObject 4.5.8//EN
CALSCALE:GREGORIAN
BEGIN:VEVENT
UID:sabre-vobject-4a06b989-0196-413f-b92f-f642400e85f8
DTSTAMP:20260424T122221Z
SUMMARY:Familiengottesdienst "Christi Himmelfahrt"
DESCRIPTION:https://www2.bistum-augsburg.de/gottesdienste/familiengottesdie
 nst-christi-himmelfahrt_id1729986
DTSTART;TZID=Europe/Berlin:20260514T103000
DURATION:PT30M
LOCATION:St. Mauritius
END:VEVENT
END:VCALENDAR
