BEGIN:VCALENDAR
VERSION:2.0
PRODID:-//Sabre//Sabre VObject 4.5.8//EN
CALSCALE:GREGORIAN
BEGIN:VEVENT
UID:sabre-vobject-b4490d27-a85d-458c-83e0-a64c77db32fb
DTSTAMP:20260423T092656Z
SUMMARY:Hl. Messe zum Priesterdonnerstag
DESCRIPTION:https://www2.bistum-augsburg.de/gottesdienste/hl-messe-zum-prie
 sterdonnerstag_id1729998
DTSTART;TZID=Europe/Berlin:20260430T180000
DURATION:PT30M
LOCATION:St. Salvator
END:VEVENT
END:VCALENDAR
