BEGIN:VCALENDAR
VERSION:2.0
PRODID:-//Sabre//Sabre VObject 4.5.8//EN
CALSCALE:GREGORIAN
BEGIN:VEVENT
UID:sabre-vobject-a58229a8-c83b-4f67-bd38-ab998bbdbd2b
DTSTAMP:20260426T005640Z
SUMMARY:Hl. Messe
DESCRIPTION:https://www2.bistum-augsburg.de/gottesdienste/hl-messe_id173000
 2
DTSTART;TZID=Europe/Berlin:20260508T191500
DURATION:PT30M
LOCATION:St. Afra
END:VEVENT
END:VCALENDAR
