BEGIN:VCALENDAR
VERSION:2.0
PRODID:-//Sabre//Sabre VObject 4.5.8//EN
CALSCALE:GREGORIAN
BEGIN:VEVENT
UID:sabre-vobject-86076074-74d4-4e4e-97b6-f5d446849c75
DTSTAMP:20260425T143109Z
SUMMARY:Bittgang zur Grotte nach Bayersried (bei gutem Wetter - Treffpunkt 
 bei Ferling \, Wurmannswies
DESCRIPTION:https://www2.bistum-augsburg.de/gottesdienste/bittgang-zur-grot
 te-nach-bayersried-bei-gutem-wetter-treffpunkt-bei-ferling-wurmannswies_id
 1730005
DTSTART;TZID=Europe/Berlin:20260511T184500
DURATION:PT30M
LOCATION:St. Afra
END:VEVENT
END:VCALENDAR
