BEGIN:VCALENDAR
VERSION:2.0
PRODID:-//Sabre//Sabre VObject 4.5.8//EN
CALSCALE:GREGORIAN
BEGIN:VEVENT
UID:sabre-vobject-fa8c66e6-b65d-4911-aa01-b000dfb383d4
DTSTAMP:20260424T211427Z
SUMMARY:Einsetzung d. Allerheiligsten
DESCRIPTION:https://www2.bistum-augsburg.de/gottesdienste/einsetzung-d-alle
 rheiligsten_id1730010
DTSTART;TZID=Europe/Berlin:20260506T185500
DURATION:PT30M
LOCATION:St. Margareta
END:VEVENT
END:VCALENDAR
