BEGIN:VCALENDAR
VERSION:2.0
PRODID:-//Sabre//Sabre VObject 4.5.8//EN
CALSCALE:GREGORIAN
BEGIN:VEVENT
UID:sabre-vobject-c614878b-79c3-407e-96e6-894222d1097a
DTSTAMP:20260425T165042Z
SUMMARY:Hl. Messe anschl. Auss. des Allerheiligsten u. sakr. Segen\, Anbetu
 ng bis 19.30 Uhr
DESCRIPTION:https://www2.bistum-augsburg.de/gottesdienste/hl-messe-anschl-a
 uss-des-allerheiligsten-u-sakr-segen-anbetung-bis-19-30-uhr_id1730021
DTSTART;TZID=Europe/Berlin:20260507T183000
DURATION:PT30M
LOCATION:St. Blasius
END:VEVENT
END:VCALENDAR
