BEGIN:VCALENDAR
VERSION:2.0
PRODID:-//Sabre//Sabre VObject 4.5.8//EN
CALSCALE:GREGORIAN
BEGIN:VEVENT
UID:sabre-vobject-8178a851-a931-4559-bb77-18b42e5263bd
DTSTAMP:20260424T043126Z
SUMMARY:Hochamt am Hochaltar \nFür die Lebenden und Verstorbenen der Pfarr
 ei\n
DESCRIPTION:https://www2.bistum-augsburg.de/gottesdienste/hochamt-am-hochal
 tar-fuer-die-lebenden-und-verstorbenen-der-pfarrei_id1730022
DTSTART;TZID=Europe/Berlin:20260514T093000
DURATION:PT30M
LOCATION:St. Blasius
END:VEVENT
END:VCALENDAR
