BEGIN:VCALENDAR
VERSION:2.0
PRODID:-//Sabre//Sabre VObject 4.5.8//EN
CALSCALE:GREGORIAN
BEGIN:VEVENT
UID:sabre-vobject-620d8079-a92b-4e3b-9c59-6dfba1742feb
DTSTAMP:20260425T161726Z
SUMMARY:Abmarsch an der Pfarrkirche zum Bittgang zur Zollhauskapelle
DESCRIPTION:https://www2.bistum-augsburg.de/gottesdienste/abmarsch-an-der-p
 farrkirche-zum-bittgang-zur-zollhauskapelle_id1730078
DTSTART;TZID=Europe/Berlin:20260512T181500
DURATION:PT30M
LOCATION:St. Margareta
END:VEVENT
END:VCALENDAR
