BEGIN:VCALENDAR
VERSION:2.0
PRODID:-//Sabre//Sabre VObject 4.5.8//EN
CALSCALE:GREGORIAN
BEGIN:VEVENT
UID:sabre-vobject-ca268575-3609-47c0-8577-e29485bf226a
DTSTAMP:20260424T220816Z
SUMMARY:Hl. Messe nach dem Messbuch von 1962
DESCRIPTION:https://www2.bistum-augsburg.de/gottesdienste/hl-messe-nach-dem
 -messbuch-von-1962_id1730086
DTSTART;TZID=Europe/Berlin:20260531T100000
DURATION:PT30M
LOCATION:Mariä Himmelfahrt
END:VEVENT
END:VCALENDAR
