BEGIN:VCALENDAR
VERSION:2.0
PRODID:-//Sabre//Sabre VObject 4.5.8//EN
CALSCALE:GREGORIAN
BEGIN:VEVENT
UID:sabre-vobject-9954db2e-4885-47d9-86bb-e16cd77c5bfa
DTSTAMP:20260423T221535Z
SUMMARY:Festgottesdienst zur Erstkommunion\; musikalisch gestaltet vom Kirc
 henchor
DESCRIPTION:https://www2.bistum-augsburg.de/gottesdienste/festgottesdienst-
 zur-erstkommunion-musikalisch-gestaltet-vom-kirchenchor_id1730101
DTSTART;TZID=Europe/Berlin:20260426T103000
DURATION:PT30M
LOCATION:St. Martin
END:VEVENT
END:VCALENDAR
